BEGIN:VCALENDAR
VERSION:2.0
PRODID:-//Paramount Pictures//release-reminder//EN
BEGIN:VEVENT
UID:0r9q@http://www.ghostintheshellfilm.co.uk
SEQUENCE:0
DTSTAMP:20170331T000000Z
DTSTART;VALUE=DATE:20170331
X-MICROSOFT-CDO-ALLDAYEVENT:TRUE
X-MICROSOFT-MSNCALENDAR-ALLDAYEVENT:TRUE
SUMMARY:Ghost In The Shell: Get Tickets
DESCRIPTION:Buy tickets now for Ghost In The Shell at
URL;VALUE=URI:http://www.ghostintheshellfilm.co.uk
END:VEVENT
END:VCALENDAR